BEGIN:VCALENDAR
VERSION:2.0
PRODID:-//Nosotras Mismas Chamber&iacute; - ECPv6.15.20//NONSGML v1.0//EN
CALSCALE:GREGORIAN
METHOD:PUBLISH
X-ORIGINAL-URL:https://nosotrasmismas.org
X-WR-CALDESC:Eventos para Nosotras Mismas Chamber&iacute;
REFRESH-INTERVAL;VALUE=DURATION:PT1H
X-Robots-Tag:noindex
X-PUBLISHED-TTL:PT1H
BEGIN:VTIMEZONE
TZID:Europe/Madrid
BEGIN:DAYLIGHT
TZOFFSETFROM:+0100
TZOFFSETTO:+0200
TZNAME:CEST
DTSTART:20240331T010000
END:DAYLIGHT
BEGIN:STANDARD
TZOFFSETFROM:+0200
TZOFFSETTO:+0100
TZNAME:CET
DTSTART:20241027T010000
END:STANDARD
BEGIN:DAYLIGHT
TZOFFSETFROM:+0100
TZOFFSETTO:+0200
TZNAME:CEST
DTSTART:20250330T010000
END:DAYLIGHT
BEGIN:STANDARD
TZOFFSETFROM:+0200
TZOFFSETTO:+0100
TZNAME:CET
DTSTART:20251026T010000
END:STANDARD
BEGIN:DAYLIGHT
TZOFFSETFROM:+0100
TZOFFSETTO:+0200
TZNAME:CEST
DTSTART:20260329T010000
END:DAYLIGHT
BEGIN:STANDARD
TZOFFSETFROM:+0200
TZOFFSETTO:+0100
TZNAME:CET
DTSTART:20261025T010000
END:STANDARD
END:VTIMEZONE
BEGIN:VEVENT
DTSTART;TZID=Europe/Madrid:20250120T180000
DTEND;TZID=Europe/Madrid:20250120T193000
DTSTAMP:20260424T140334
CREATED:20250113T152423Z
LAST-MODIFIED:20250113T152439Z
UID:43617-1737396000-1737401400@nosotrasmismas.org
SUMMARY:CLUB LECTURA ENERO 2025
DESCRIPTION:Aún estás a tiempo de apuntarte a nuestro Club de Lectura. Este mes analizaremos y debatiremos sobre ‘Historia de una escalera’ de Antonio Buero Vallejo. \nEsta obra se centra en el enfoque que Buero Vallejo hace en el realismo social \, ofreciendo una profunda exploración de los sueños y la vida de los personajes.\nUtiliza algo tan sencillo\, como los vecinos de una escalera\, en la que se refleja la sociedad de una época\, pero que también puede ser la actual y lo hace a través de una pluma magnífica\, constituyendo una obra excepcional.
URL:https://nosotrasmismas.org/evento/club-lectura-enero-2025/
LOCATION:Asociación de Mujeres Nosotras Mismas Chamberí\, Calle Santa Engracia 108\, Madrid\, Madrid\, 28003\, Spain
CATEGORIES:club de lectura,Talleres
END:VEVENT
END:VCALENDAR