BEGIN:VCALENDAR
VERSION:2.0
PRODID:-//Nosotras Mismas Chamber&iacute; - ECPv6.15.20//NONSGML v1.0//EN
CALSCALE:GREGORIAN
METHOD:PUBLISH
X-ORIGINAL-URL:https://nosotrasmismas.org
X-WR-CALDESC:Eventos para Nosotras Mismas Chamber&iacute;
REFRESH-INTERVAL;VALUE=DURATION:PT1H
X-Robots-Tag:noindex
X-PUBLISHED-TTL:PT1H
BEGIN:VTIMEZONE
TZID:Europe/Madrid
BEGIN:DAYLIGHT
TZOFFSETFROM:+0100
TZOFFSETTO:+0200
TZNAME:CEST
DTSTART:20240331T010000
END:DAYLIGHT
BEGIN:STANDARD
TZOFFSETFROM:+0200
TZOFFSETTO:+0100
TZNAME:CET
DTSTART:20241027T010000
END:STANDARD
BEGIN:DAYLIGHT
TZOFFSETFROM:+0100
TZOFFSETTO:+0200
TZNAME:CEST
DTSTART:20250330T010000
END:DAYLIGHT
BEGIN:STANDARD
TZOFFSETFROM:+0200
TZOFFSETTO:+0100
TZNAME:CET
DTSTART:20251026T010000
END:STANDARD
BEGIN:DAYLIGHT
TZOFFSETFROM:+0100
TZOFFSETTO:+0200
TZNAME:CEST
DTSTART:20260329T010000
END:DAYLIGHT
BEGIN:STANDARD
TZOFFSETFROM:+0200
TZOFFSETTO:+0100
TZNAME:CET
DTSTART:20261025T010000
END:STANDARD
END:VTIMEZONE
BEGIN:VEVENT
DTSTART;TZID=Europe/Madrid:20250616T180000
DTEND;TZID=Europe/Madrid:20250616T193000
DTSTAMP:20260424T110914
CREATED:20250529T171001Z
LAST-MODIFIED:20250529T171001Z
UID:43831-1750096800-1750102200@nosotrasmismas.org
SUMMARY:Club de Lectura
DESCRIPTION:Esta vez debatiremos y analizaremos El amor molesto\, de Elena Ferrant
URL:https://nosotrasmismas.org/evento/club-de-lectura-8/
LOCATION:Asociación de Mujeres Nosotras Mismas Chamberí\, Calle Santa Engracia 108\, Madrid\, Madrid\, 28003\, Spain
CATEGORIES:club de lectura,Literatura
END:VEVENT
END:VCALENDAR