BEGIN:VCALENDAR
VERSION:2.0
PRODID:-//Nosotras Mismas Chamber&iacute; - ECPv6.15.20//NONSGML v1.0//EN
CALSCALE:GREGORIAN
METHOD:PUBLISH
X-WR-CALNAME:Nosotras Mismas Chamber&iacute;
X-ORIGINAL-URL:https://nosotrasmismas.org
X-WR-CALDESC:Eventos para Nosotras Mismas Chamber&iacute;
REFRESH-INTERVAL;VALUE=DURATION:PT1H
X-Robots-Tag:noindex
X-PUBLISHED-TTL:PT1H
BEGIN:VTIMEZONE
TZID:Europe/Madrid
BEGIN:DAYLIGHT
TZOFFSETFROM:+0100
TZOFFSETTO:+0200
TZNAME:CEST
DTSTART:20230326T010000
END:DAYLIGHT
BEGIN:STANDARD
TZOFFSETFROM:+0200
TZOFFSETTO:+0100
TZNAME:CET
DTSTART:20231029T010000
END:STANDARD
BEGIN:DAYLIGHT
TZOFFSETFROM:+0100
TZOFFSETTO:+0200
TZNAME:CEST
DTSTART:20240331T010000
END:DAYLIGHT
BEGIN:STANDARD
TZOFFSETFROM:+0200
TZOFFSETTO:+0100
TZNAME:CET
DTSTART:20241027T010000
END:STANDARD
BEGIN:DAYLIGHT
TZOFFSETFROM:+0100
TZOFFSETTO:+0200
TZNAME:CEST
DTSTART:20250330T010000
END:DAYLIGHT
BEGIN:STANDARD
TZOFFSETFROM:+0200
TZOFFSETTO:+0100
TZNAME:CET
DTSTART:20251026T010000
END:STANDARD
END:VTIMEZONE
BEGIN:VEVENT
DTSTART;TZID=Europe/Madrid:20241106T180000
DTEND;TZID=Europe/Madrid:20241106T193000
DTSTAMP:20260424T181121
CREATED:20241031T101858Z
LAST-MODIFIED:20241031T102406Z
UID:43484-1730916000-1730921400@nosotrasmismas.org
SUMMARY:CINE FÓRUM
DESCRIPTION:🎥El próximo miércoles día 6 tendremos nuestro próximo cine fórum y proyectaremos La Calumnia.\nUna película filmada hace más de 60 años\, pero cuyo mensaje sigue siendo increíblemente actual.💬 \nLa historia nos recuerda cómo los rumores y mentiras pueden tener efectos devastadores. En una era donde la información se viraliza en segundos\, esta película nos invita a reflexionar sobre el impacto de las palabras y las falsedades.‼‼ \n¡No te pierdas esta oportunidad de debatir y reflexionar juntas! \n🗓 Miércoles 6 de noviembre\n🕕 18:00\n📍Nuestra Sede\nInscripciones: 620285883\, contacta@nosotras@ismas.org \n¡te esperamos!🤗
URL:https://nosotrasmismas.org/evento/43484/
LOCATION:Asociación de Mujeres Nosotras Mismas Chamberí\, Calle Santa Engracia 108\, Madrid\, Madrid\, 28003\, Spain
CATEGORIES:actividades en la asociación,Cine Fórum
END:VEVENT
END:VCALENDAR