BEGIN:VCALENDAR
VERSION:2.0
PRODID:-//Nosotras Mismas Chamber&iacute; - ECPv6.15.20//NONSGML v1.0//EN
CALSCALE:GREGORIAN
METHOD:PUBLISH
X-WR-CALNAME:Nosotras Mismas Chamber&iacute;
X-ORIGINAL-URL:https://nosotrasmismas.org
X-WR-CALDESC:Eventos para Nosotras Mismas Chamber&iacute;
REFRESH-INTERVAL;VALUE=DURATION:PT1H
X-Robots-Tag:noindex
X-PUBLISHED-TTL:PT1H
BEGIN:VTIMEZONE
TZID:Europe/Madrid
BEGIN:DAYLIGHT
TZOFFSETFROM:+0100
TZOFFSETTO:+0200
TZNAME:CEST
DTSTART:20220327T010000
END:DAYLIGHT
BEGIN:STANDARD
TZOFFSETFROM:+0200
TZOFFSETTO:+0100
TZNAME:CET
DTSTART:20221030T010000
END:STANDARD
BEGIN:DAYLIGHT
TZOFFSETFROM:+0100
TZOFFSETTO:+0200
TZNAME:CEST
DTSTART:20230326T010000
END:DAYLIGHT
BEGIN:STANDARD
TZOFFSETFROM:+0200
TZOFFSETTO:+0100
TZNAME:CET
DTSTART:20231029T010000
END:STANDARD
BEGIN:DAYLIGHT
TZOFFSETFROM:+0100
TZOFFSETTO:+0200
TZNAME:CEST
DTSTART:20240331T010000
END:DAYLIGHT
BEGIN:STANDARD
TZOFFSETFROM:+0200
TZOFFSETTO:+0100
TZNAME:CET
DTSTART:20241027T010000
END:STANDARD
END:VTIMEZONE
BEGIN:VEVENT
DTSTART;TZID=Europe/Madrid:20230421T180000
DTEND;TZID=Europe/Madrid:20230421T200000
DTSTAMP:20260426T054606
CREATED:20230330T094119Z
LAST-MODIFIED:20230330T094119Z
UID:42792-1682100000-1682107200@nosotrasmismas.org
SUMMARY:Celebramos la Noche de los Libros
DESCRIPTION:Viernes 21 a las 18:00 h con motivo de la celebración de la decimoctava edición de la Noche de los Libros\, organizada por la Comunidad de Madrid\,  Nosotras Mismas participará en la misma con la proyección de la película “El Truco final” (basada en la novela de Christopher Priest) y posterior coloquio sobre la Novela de Suspense. \n«En Londres\, a finales del siglo XIX\, cuando los magos eran los ídolos mas aclamados\, dos jóvenes ilusionistas se proponen alcanzar la fama. Truco a truco\, espectáculo a espectáculo\, se va fraguando una feroz competición que no tiene limites» \nDirigido por nuestra profesora del Club de Lectura y taller de Literatura\, Carmen Jiménez. \nImprescindible inscripción previa. Plazas limitadas
URL:https://nosotrasmismas.org/evento/celebramos-la-noche-de-los-libros/
LOCATION:Asociación de Mujeres Nosotras Mismas Chamberí\, Calle Santa Engracia 108\, Madrid\, Madrid\, 28003\, Spain
CATEGORIES:Cine Fórum
ATTACH;FMTTYPE=image/jpeg:https://nosotrasmismas.org/wp-content/uploads/2023/03/Cartel.jpg
END:VEVENT
END:VCALENDAR