BEGIN:VCALENDAR
VERSION:2.0
PRODID:-//Nosotras Mismas Chamber&iacute; - ECPv6.15.20//NONSGML v1.0//EN
CALSCALE:GREGORIAN
METHOD:PUBLISH
X-ORIGINAL-URL:https://nosotrasmismas.org
X-WR-CALDESC:Eventos para Nosotras Mismas Chamber&iacute;
REFRESH-INTERVAL;VALUE=DURATION:PT1H
X-Robots-Tag:noindex
X-PUBLISHED-TTL:PT1H
BEGIN:VTIMEZONE
TZID:Europe/Madrid
BEGIN:DAYLIGHT
TZOFFSETFROM:+0100
TZOFFSETTO:+0200
TZNAME:CEST
DTSTART:20220327T010000
END:DAYLIGHT
BEGIN:STANDARD
TZOFFSETFROM:+0200
TZOFFSETTO:+0100
TZNAME:CET
DTSTART:20221030T010000
END:STANDARD
BEGIN:DAYLIGHT
TZOFFSETFROM:+0100
TZOFFSETTO:+0200
TZNAME:CEST
DTSTART:20230326T010000
END:DAYLIGHT
BEGIN:STANDARD
TZOFFSETFROM:+0200
TZOFFSETTO:+0100
TZNAME:CET
DTSTART:20231029T010000
END:STANDARD
BEGIN:DAYLIGHT
TZOFFSETFROM:+0100
TZOFFSETTO:+0200
TZNAME:CEST
DTSTART:20240331T010000
END:DAYLIGHT
BEGIN:STANDARD
TZOFFSETFROM:+0200
TZOFFSETTO:+0100
TZNAME:CET
DTSTART:20241027T010000
END:STANDARD
END:VTIMEZONE
BEGIN:VEVENT
DTSTART;TZID=Europe/Madrid:20230412T173000
DTEND;TZID=Europe/Madrid:20230412T200000
DTSTAMP:20260426T055747
CREATED:20230330T093512Z
LAST-MODIFIED:20230330T093512Z
UID:42789-1681320600-1681329600@nosotrasmismas.org
SUMMARY:Cine Fórum "El león en invierno"
DESCRIPTION:El miércoles 12 de abril a las 17:30 h tendremos un nuevo encuentro en nuestro Cine Fórum\, en esta ocasión proyectaremos y comentaremos la película británica «El león en invierno» ambientada en el año 1183. Cuenta la reunión del rey de Inglaterra Enrique II Plantagenet con su familia para anunciar cuál de sus hijos será su sucesor: Ricardo (Corazón de León)\, Geoffrey o Juan (Sin Tierra). \nDirigido y comentado por nuestra profesora del Club de Lectura y taller de Literatura\, Carmen Jiménez. \nImprescindible inscripción previa. Plazas limitadas
URL:https://nosotrasmismas.org/evento/cine-forum-el-leon-en-invierno/
LOCATION:Asociación de Mujeres Nosotras Mismas Chamberí\, Calle Santa Engracia 108\, Madrid\, Madrid\, 28003\, Spain
CATEGORIES:Cine Fórum
ATTACH;FMTTYPE=image/jpeg:https://nosotrasmismas.org/wp-content/uploads/2023/03/El-leon-de-invierno-12-4-23.jpg
END:VEVENT
END:VCALENDAR