BEGIN:VCALENDAR
VERSION:2.0
PRODID:-//Nosotras Mismas Chamber&iacute; - ECPv6.15.20//NONSGML v1.0//EN
CALSCALE:GREGORIAN
METHOD:PUBLISH
X-WR-CALNAME:Nosotras Mismas Chamber&iacute;
X-ORIGINAL-URL:https://nosotrasmismas.org
X-WR-CALDESC:Eventos para Nosotras Mismas Chamber&iacute;
REFRESH-INTERVAL;VALUE=DURATION:PT1H
X-Robots-Tag:noindex
X-PUBLISHED-TTL:PT1H
BEGIN:VTIMEZONE
TZID:Europe/Madrid
BEGIN:DAYLIGHT
TZOFFSETFROM:+0100
TZOFFSETTO:+0200
TZNAME:CEST
DTSTART:20230326T010000
END:DAYLIGHT
BEGIN:STANDARD
TZOFFSETFROM:+0200
TZOFFSETTO:+0100
TZNAME:CET
DTSTART:20231029T010000
END:STANDARD
BEGIN:DAYLIGHT
TZOFFSETFROM:+0100
TZOFFSETTO:+0200
TZNAME:CEST
DTSTART:20240331T010000
END:DAYLIGHT
BEGIN:STANDARD
TZOFFSETFROM:+0200
TZOFFSETTO:+0100
TZNAME:CET
DTSTART:20241027T010000
END:STANDARD
BEGIN:DAYLIGHT
TZOFFSETFROM:+0100
TZOFFSETTO:+0200
TZNAME:CEST
DTSTART:20250330T010000
END:DAYLIGHT
BEGIN:STANDARD
TZOFFSETFROM:+0200
TZOFFSETTO:+0100
TZNAME:CET
DTSTART:20251026T010000
END:STANDARD
END:VTIMEZONE
BEGIN:VEVENT
DTSTART;TZID=Europe/Madrid:20240410T180000
DTEND;TZID=Europe/Madrid:20240410T200000
DTSTAMP:20260425T054953
CREATED:20240402T123959Z
LAST-MODIFIED:20240403T131959Z
UID:43115-1712772000-1712779200@nosotrasmismas.org
SUMMARY:Cine Fórum abril
DESCRIPTION:El miércoles 10 de abril a las 18:00 h tendremos un nuevo encuentro en nuestro Cine Fórum con la proyección de la pelicula «Loca» \nActividad dirigida y comentada por Carmen Jiménez \n«Una mujer fascinante\, llena de dolor y resentimiento\, que no le impiden mirar a la vida a la cara y salir adelante\, pese al drama vivido» \nPelicula interpretada por Barbra Streisand \n 
URL:https://nosotrasmismas.org/evento/cine-forum-abril/
LOCATION:Asociación de Mujeres Nosotras Mismas Chamberí\, Calle Santa Engracia 108\, Madrid\, Madrid\, 28003\, Spain
CATEGORIES:Cine Fórum
ATTACH;FMTTYPE=image/jpeg:https://nosotrasmismas.org/wp-content/uploads/2024/04/Cine-Forum-abril-1.jpg
END:VEVENT
END:VCALENDAR