BEGIN:VCALENDAR
VERSION:2.0
PRODID:-//Nosotras Mismas Chamber&iacute; - ECPv6.15.20//NONSGML v1.0//EN
CALSCALE:GREGORIAN
METHOD:PUBLISH
X-ORIGINAL-URL:https://nosotrasmismas.org
X-WR-CALDESC:Eventos para Nosotras Mismas Chamber&iacute;
REFRESH-INTERVAL;VALUE=DURATION:PT1H
X-Robots-Tag:noindex
X-PUBLISHED-TTL:PT1H
BEGIN:VTIMEZONE
TZID:Europe/Madrid
BEGIN:DAYLIGHT
TZOFFSETFROM:+0100
TZOFFSETTO:+0200
TZNAME:CEST
DTSTART:20240331T010000
END:DAYLIGHT
BEGIN:STANDARD
TZOFFSETFROM:+0200
TZOFFSETTO:+0100
TZNAME:CET
DTSTART:20241027T010000
END:STANDARD
BEGIN:DAYLIGHT
TZOFFSETFROM:+0100
TZOFFSETTO:+0200
TZNAME:CEST
DTSTART:20250330T010000
END:DAYLIGHT
BEGIN:STANDARD
TZOFFSETFROM:+0200
TZOFFSETTO:+0100
TZNAME:CET
DTSTART:20251026T010000
END:STANDARD
BEGIN:DAYLIGHT
TZOFFSETFROM:+0100
TZOFFSETTO:+0200
TZNAME:CEST
DTSTART:20260329T010000
END:DAYLIGHT
BEGIN:STANDARD
TZOFFSETFROM:+0200
TZOFFSETTO:+0100
TZNAME:CET
DTSTART:20261025T010000
END:STANDARD
END:VTIMEZONE
BEGIN:VEVENT
DTSTART;TZID=Europe/Madrid:20250214T180000
DTEND;TZID=Europe/Madrid:20250214T193000
DTSTAMP:20260426T003215
CREATED:20250129T175612Z
LAST-MODIFIED:20250129T175612Z
UID:43654-1739556000-1739561400@nosotrasmismas.org
SUMMARY:ARTE Y CONCIENCIA
DESCRIPTION:  \n \nEn las salas de los grandes museos\, escenas de raptos\, violaciones y humillaciones hacia las mujeres han sido representadas durante siglos y celebradas como “grandes obras maestras”. Pero\, ¿qué sucede si observamos estas piezas desde una mirada feminista?\n\n📢 Taller gratuito “Arte y Conciencia”\n🗓 14 de febrero\n🕕 18:00\n📍 Nuestra sede\n\n• Reflexionaremos sobre cómo el arte ha normalizado ciertas violencias hacia las mujeres.\n•Sensibilizarnos sobre las representaciones que perpetúan desigualdades.\n\n\n🌍 El arte puede ser una herramienta para combatir la violencia machista y construir conciencia.\n\n¡Te esperamos!\n\n#ArteYConciencia\n#ViolenciaMachista #PerspectivaFeminista #GafasVioletas #MiradaCrítica #MujeresYArte
URL:https://nosotrasmismas.org/evento/arte-y-conciencia/
LOCATION:Asociación de Mujeres Nosotras Mismas Chamberí\, Calle Santa Engracia 108\, Madrid\, Madrid\, 28003\, Spain
CATEGORIES:actividades en la asociación,Conferencias,Debates,PINTURA,PREVENCION VIOLENCIA DE GÉNERO,SENSIBILIZACION VIOLENCIA,Taller monográfico
END:VEVENT
END:VCALENDAR