BEGIN:VCALENDAR
VERSION:2.0
PRODID:-//Nosotras Mismas Chamber&iacute; - ECPv6.15.20//NONSGML v1.0//EN
CALSCALE:GREGORIAN
METHOD:PUBLISH
X-ORIGINAL-URL:https://nosotrasmismas.org
X-WR-CALDESC:Eventos para Nosotras Mismas Chamber&iacute;
REFRESH-INTERVAL;VALUE=DURATION:PT1H
X-Robots-Tag:noindex
X-PUBLISHED-TTL:PT1H
BEGIN:VTIMEZONE
TZID:Europe/Madrid
BEGIN:DAYLIGHT
TZOFFSETFROM:+0100
TZOFFSETTO:+0200
TZNAME:CEST
DTSTART:20240331T010000
END:DAYLIGHT
BEGIN:STANDARD
TZOFFSETFROM:+0200
TZOFFSETTO:+0100
TZNAME:CET
DTSTART:20241027T010000
END:STANDARD
BEGIN:DAYLIGHT
TZOFFSETFROM:+0100
TZOFFSETTO:+0200
TZNAME:CEST
DTSTART:20250330T010000
END:DAYLIGHT
BEGIN:STANDARD
TZOFFSETFROM:+0200
TZOFFSETTO:+0100
TZNAME:CET
DTSTART:20251026T010000
END:STANDARD
BEGIN:DAYLIGHT
TZOFFSETFROM:+0100
TZOFFSETTO:+0200
TZNAME:CEST
DTSTART:20260329T010000
END:DAYLIGHT
BEGIN:STANDARD
TZOFFSETFROM:+0200
TZOFFSETTO:+0100
TZNAME:CET
DTSTART:20261025T010000
END:STANDARD
END:VTIMEZONE
BEGIN:VEVENT
DTSTART;TZID=Europe/Madrid:20250618T180000
DTEND;TZID=Europe/Madrid:20250618T183000
DTSTAMP:20260425T144751
CREATED:20250529T170531Z
LAST-MODIFIED:20250529T170531Z
UID:43825-1750269600-1750271400@nosotrasmismas.org
SUMMARY:Asamblea de Socias
DESCRIPTION:El miércoles 18 de junio a las 18:00\nCelebramos nuestra Asamblea General de Socias\, si no puedes asistir delega tu voto.
URL:https://nosotrasmismas.org/evento/asamblea-de-socias/
LOCATION:Asociación de Mujeres Nosotras Mismas Chamberí\, Calle Santa Engracia 108\, Madrid\, Madrid\, 28003\, Spain
CATEGORIES:actividades en la asociación
END:VEVENT
BEGIN:VEVENT
DTSTART;TZID=Europe/Madrid:20250618T190000
DTEND;TZID=Europe/Madrid:20250618T210000
DTSTAMP:20260425T144751
CREATED:20250529T170757Z
LAST-MODIFIED:20250529T170757Z
UID:43828-1750273200-1750280400@nosotrasmismas.org
SUMMARY:Fiesta Fin de Curso
DESCRIPTION:  \n  \n \nDespués de nuestra Asamblea celebraremos la fiesta fin de curso\, cada una puede traer lo que quiera (comida\, bebida\, postre\, lo que os apetezca)\, y entre todas armaremos un festín. \n¡Te esperamos!
URL:https://nosotrasmismas.org/evento/fiesta-fin-de-curso/
LOCATION:Asociación de Mujeres Nosotras Mismas Chamberí\, Calle Santa Engracia 108\, Madrid\, Madrid\, 28003\, Spain
CATEGORIES:actividades en la asociación
END:VEVENT
END:VCALENDAR