BEGIN:VCALENDAR
VERSION:2.0
PRODID:-//Nosotras Mismas Chamber&iacute; - ECPv6.15.20//NONSGML v1.0//EN
CALSCALE:GREGORIAN
METHOD:PUBLISH
X-WR-CALNAME:Nosotras Mismas Chamber&iacute;
X-ORIGINAL-URL:https://nosotrasmismas.org
X-WR-CALDESC:Eventos para Nosotras Mismas Chamber&iacute;
REFRESH-INTERVAL;VALUE=DURATION:PT1H
X-Robots-Tag:noindex
X-PUBLISHED-TTL:PT1H
BEGIN:VTIMEZONE
TZID:Europe/Madrid
BEGIN:DAYLIGHT
TZOFFSETFROM:+0100
TZOFFSETTO:+0200
TZNAME:CEST
DTSTART:20230326T010000
END:DAYLIGHT
BEGIN:STANDARD
TZOFFSETFROM:+0200
TZOFFSETTO:+0100
TZNAME:CET
DTSTART:20231029T010000
END:STANDARD
BEGIN:DAYLIGHT
TZOFFSETFROM:+0100
TZOFFSETTO:+0200
TZNAME:CEST
DTSTART:20240331T010000
END:DAYLIGHT
BEGIN:STANDARD
TZOFFSETFROM:+0200
TZOFFSETTO:+0100
TZNAME:CET
DTSTART:20241027T010000
END:STANDARD
BEGIN:DAYLIGHT
TZOFFSETFROM:+0100
TZOFFSETTO:+0200
TZNAME:CEST
DTSTART:20250330T010000
END:DAYLIGHT
BEGIN:STANDARD
TZOFFSETFROM:+0200
TZOFFSETTO:+0100
TZNAME:CET
DTSTART:20251026T010000
END:STANDARD
END:VTIMEZONE
BEGIN:VEVENT
DTSTART;TZID=Europe/Madrid:20241213T180000
DTEND;TZID=Europe/Madrid:20241213T193000
DTSTAMP:20260426T020756
CREATED:20241212T151207Z
LAST-MODIFIED:20241212T151207Z
UID:43605-1734112800-1734118200@nosotrasmismas.org
SUMMARY:¿ERES UNA MUJER DE PELÍCULA?
DESCRIPTION:📽 ¿Eres una mujer de película? 🎬 \nEl próximo viernes 13 de diciembre a las 18:00\, en nuestra sede\, realizaremos un taller gratuito para reflexionar y desmontar los estereotipos de género que el cine ha transmitido sobre cómo “debería ser” una mujer. \n🌟 A través de escenas y personajes icónicos\, analizaremos cómo estas representaciones de la mujer han moldeado imaginarios y roles\, y aprenderemos a identificar y cuestionar estos mensajes. \n🔗 Inscríbete: 620 285 883. \n📍Nuestra sede \n¡No te lo pierdas\, porque juntas construimos un nuevo guion! 💜
URL:https://nosotrasmismas.org/evento/eres-una-mujer-de-pelicula/
LOCATION:Asociación de Mujeres Nosotras Mismas Chamberí\, Calle Santa Engracia 108\, Madrid\, Madrid\, 28003\, Spain
CATEGORIES:actividades en la asociación,PREVENCION VIOLENCIA DE GÉNERO,SENSIBILIZACION VIOLENCIA,Taller monográfico
END:VEVENT
BEGIN:VEVENT
DTSTART;TZID=Europe/Madrid:20241216T180000
DTEND;TZID=Europe/Madrid:20241216T193000
DTSTAMP:20260426T020756
CREATED:20241212T151852Z
LAST-MODIFIED:20241212T151852Z
UID:43611-1734372000-1734377400@nosotrasmismas.org
SUMMARY:CLUB DE LECTURA
DESCRIPTION:Nuestro próxima reunión del Club de Lectura será el lunes 16 de diciembre. En esta ocasión debatiremos y analizaremos ‘Basada en hechos reales’. Este libro es una sagaz reflexión sobre el papel de las escritoras y escritores en el siglo XXI\, y a la vez un thriller muy especial. Una prodigiosa novela\, que se mueve entre la realidad y la ficción.
URL:https://nosotrasmismas.org/evento/club-de-lectura-6/
LOCATION:Asociación de Mujeres Nosotras Mismas Chamberí\, Calle Santa Engracia 108\, Madrid\, Madrid\, 28003\, Spain
CATEGORIES:actividades en la asociación,club de lectura
END:VEVENT
BEGIN:VEVENT
DTSTART;TZID=Europe/Madrid:20241218T180000
DTEND;TZID=Europe/Madrid:20241218T203000
DTSTAMP:20260426T020756
CREATED:20241212T151505Z
LAST-MODIFIED:20241212T151505Z
UID:43608-1734544800-1734553800@nosotrasmismas.org
SUMMARY:FIESTA DE NAVIDAD
DESCRIPTION:¡Acompáñanos el próximo miércoles 18 de diciembre!. Habrá viandas\, rastrillo\, rifa y más… \n¡No te lo pierdas!
URL:https://nosotrasmismas.org/evento/fiesta-de-navidad/
LOCATION:Asociación de Mujeres Nosotras Mismas Chamberí\, Calle Santa Engracia 108\, Madrid\, Madrid\, 28003\, Spain
CATEGORIES:actividades en la asociación
END:VEVENT
END:VCALENDAR