BEGIN:VCALENDAR
VERSION:2.0
PRODID:-//Nosotras Mismas Chamber&iacute; - ECPv6.15.20//NONSGML v1.0//EN
CALSCALE:GREGORIAN
METHOD:PUBLISH
X-WR-CALNAME:Nosotras Mismas Chamber&iacute;
X-ORIGINAL-URL:https://nosotrasmismas.org
X-WR-CALDESC:Eventos para Nosotras Mismas Chamber&iacute;
REFRESH-INTERVAL;VALUE=DURATION:PT1H
X-Robots-Tag:noindex
X-PUBLISHED-TTL:PT1H
BEGIN:VTIMEZONE
TZID:Europe/Madrid
BEGIN:DAYLIGHT
TZOFFSETFROM:+0100
TZOFFSETTO:+0200
TZNAME:CEST
DTSTART:20230326T010000
END:DAYLIGHT
BEGIN:STANDARD
TZOFFSETFROM:+0200
TZOFFSETTO:+0100
TZNAME:CET
DTSTART:20231029T010000
END:STANDARD
BEGIN:DAYLIGHT
TZOFFSETFROM:+0100
TZOFFSETTO:+0200
TZNAME:CEST
DTSTART:20240331T010000
END:DAYLIGHT
BEGIN:STANDARD
TZOFFSETFROM:+0200
TZOFFSETTO:+0100
TZNAME:CET
DTSTART:20241027T010000
END:STANDARD
BEGIN:DAYLIGHT
TZOFFSETFROM:+0100
TZOFFSETTO:+0200
TZNAME:CEST
DTSTART:20250330T010000
END:DAYLIGHT
BEGIN:STANDARD
TZOFFSETFROM:+0200
TZOFFSETTO:+0100
TZNAME:CET
DTSTART:20251026T010000
END:STANDARD
END:VTIMEZONE
BEGIN:VEVENT
DTSTART;TZID=Europe/Madrid:20241009T180000
DTEND;TZID=Europe/Madrid:20241009T193000
DTSTAMP:20260426T055802
CREATED:20240918T135316Z
LAST-MODIFIED:20240918T140305Z
UID:43348-1728496800-1728502200@nosotrasmismas.org
SUMMARY:CINE FÓRUM OCTUBRE
DESCRIPTION:🎬✨ El miércoles 9 en nuestro Cine Fórum: *»Retrato de una mujer en llamas»* 🔥 \nSiglo XVIII\, una pintora recibe el encargo de confeccionar el retrato de una joven para su boda. Una historia delicadamente tratada. Misterios\, costumbres\, escenas oníricas bellísimas\, y el mito de Orfeo\, que se convierte en el hilo conductor de la película\, hasta desembocar en un final apoteósico e imprevisible. \nTe esperamos para disfrutar de esta obra maestra del cine. ¡No te lo pierdas! 🍿 \n#CineFórum #RetratoDeUnaMujerEnLlamas #CineDeCalidad #NosotrasMismas #AmorPorElCine #Cultura
URL:https://nosotrasmismas.org/evento/43348/
LOCATION:Asociación de Mujeres Nosotras Mismas Chamberí\, Calle Santa Engracia 108\, Madrid\, Madrid\, 28003\, Spain
CATEGORIES:actividades en la asociación,cine,Cine Fórum,Debates
END:VEVENT
BEGIN:VEVENT
DTSTART;TZID=Europe/Madrid:20241010T120000
DTEND;TZID=Europe/Madrid:20241010T123000
DTSTAMP:20260426T055802
CREATED:20240918T135721Z
LAST-MODIFIED:20240918T141403Z
UID:43352-1728561600-1728563400@nosotrasmismas.org
SUMMARY:VISITA GUIADA 'ALTARES DE MUERTOS 2024'
DESCRIPTION:Acompáñanos a visitar la exposición ‘Altares de Muertos 2024’ en la Casa de México. \nUn altar inspirado en el viaje del mundo de los muertos al mundo de los vivos a través de los sentidos\, de la mano del diseño de Eugenio Caballero\, uno de los directores artísticos más destacados de méxico
URL:https://nosotrasmismas.org/evento/43352/
LOCATION:Casa de México en España\, C/Alberto Aguilera\, 20\, Madrid\, España
CATEGORIES:actividades en la asociación,exposiciones,visita cultural
END:VEVENT
BEGIN:VEVENT
DTSTART;TZID=Europe/Madrid:20241021T180000
DTEND;TZID=Europe/Madrid:20241021T193000
DTSTAMP:20260426T055802
CREATED:20240918T140052Z
LAST-MODIFIED:20240918T140152Z
UID:43356-1729533600-1729539000@nosotrasmismas.org
SUMMARY:CLUB DE LECTURA OCTUBRE
DESCRIPTION:📚✨ ¡Únete a nuestro Club de Lectura! Este mes con nuestra profesora de literatura Carmen Jiménez leemos ‘La inquilina de Wildfell Hall’ de Anne Brontë\, una obra llena de misterio y emociones\, narrada con una belleza que te transportará a otra época. 🌿✨ \nDescubre a la menos conocida de las hermanas Brontë y ven a compartir tus impresiones con nosotras. ¡No te lo pierdas! \n🗓 *21 de octubre de 2024*\n🕕 *18:00*\n📍 *C/Santa Engracia 108* \n#ClubDeLectura #AnneBrontë #NosotrasMismas #LecturaCompartida #CulturaLiteraria #MujeresQueLeen
URL:https://nosotrasmismas.org/evento/43356/
LOCATION:Asociación de Mujeres Nosotras Mismas Chamberí\, Calle Santa Engracia 108\, Madrid\, Madrid\, 28003\, Spain
CATEGORIES:actividades en la asociación,club de lectura,Debates,Literatura,Talleres
END:VEVENT
END:VCALENDAR